BEGIN:VCALENDAR
VERSION:2.0
PRODID:-//Womens Money Matters - ECPv6.15.20//NONSGML v1.0//EN
CALSCALE:GREGORIAN
METHOD:PUBLISH
X-WR-CALNAME:Womens Money Matters
X-ORIGINAL-URL:https://womensmoneymatters.org
X-WR-CALDESC:Events for Womens Money Matters
REFRESH-INTERVAL;VALUE=DURATION:PT1H
X-Robots-Tag:noindex
X-PUBLISHED-TTL:PT1H
BEGIN:VTIMEZONE
TZID:UTC
BEGIN:STANDARD
TZOFFSETFROM:+0000
TZOFFSETTO:+0000
TZNAME:UTC
DTSTART:20240101T000000
END:STANDARD
END:VTIMEZONE
BEGIN:VEVENT
DTSTART;TZID=UTC:20251210T183000
DTEND;TZID=UTC:20251210T193000
DTSTAMP:20260423T101808
CREATED:20250924T155737Z
LAST-MODIFIED:20250924T155845Z
UID:10000008-1765391400-1765395000@womensmoneymatters.org
SUMMARY:Program Info Session
DESCRIPTION:Join us for a free info session to learn more about our unique model that offers small peer groups AND a one-on-one coach for the three-month sessions. \nOur programs empower women and girls to improve their financial health to create a more secure future for their families and communities – we would love for you to join us as a participant or volunteer! \nThese info sessions are a great way for participants\, volunteers\, and program partners to get to know us. \n\nRegister Here  \nQuestions? Connect directly with our Program Team through text or email: 617-297-7376 or programs@womensmoneymatters.org \n\n\n\n\nHaz clic aquí para llenar el formulario de interés y comenzar tu camino con el Programa Futuros Financieros.\n\n\n\n\n\n\n\n\n\n\n\n\n\n\n\n\n\n\n\n\n 617-297-7376 o programs@womensmoneymatters.org 
URL:https://womensmoneymatters.org/event/program-info-session/2025-12-10/
CATEGORIES:Programs
ATTACH;FMTTYPE=image/png:https://womensmoneymatters.org/wp-content/uploads/2025/08/ES-Blog-Post-Graphics-3.png
LOCATION:
END:VEVENT
BEGIN:VEVENT
DTSTART;TZID=UTC:20251118T183000
DTEND;TZID=UTC:20251118T193000
DTSTAMP:20260423T101808
CREATED:20250924T155737Z
LAST-MODIFIED:20250924T155845Z
UID:10000007-1763490600-1763494200@womensmoneymatters.org
SUMMARY:Program Info Session
DESCRIPTION:Join us for a free info session to learn more about our unique model that offers small peer groups AND a one-on-one coach for the three-month sessions. \nOur programs empower women and girls to improve their financial health to create a more secure future for their families and communities – we would love for you to join us as a participant or volunteer! \nThese info sessions are a great way for participants\, volunteers\, and program partners to get to know us. \n\nRegister Here  \nQuestions? Connect directly with our Program Team through text or email: 617-297-7376 or programs@womensmoneymatters.org \n\n\n\n\nHaz clic aquí para llenar el formulario de interés y comenzar tu camino con el Programa Futuros Financieros.\n\n\n\n\n\n\n\n\n\n\n\n\n\n\n\n\n\n\n\n\n 617-297-7376 o programs@womensmoneymatters.org 
URL:https://womensmoneymatters.org/event/program-info-session/2025-11-18/
CATEGORIES:Programs
ATTACH;FMTTYPE=image/png:https://womensmoneymatters.org/wp-content/uploads/2025/08/ES-Blog-Post-Graphics-3.png
LOCATION:
END:VEVENT
BEGIN:VEVENT
DTSTART;TZID=UTC:20251020T183000
DTEND;TZID=UTC:20251020T193000
DTSTAMP:20260423T101808
CREATED:20250924T155737Z
LAST-MODIFIED:20250924T155845Z
UID:10000006-1760985000-1760988600@womensmoneymatters.org
SUMMARY:Program Info Session
DESCRIPTION:Join us for a free info session to learn more about our unique model that offers small peer groups AND a one-on-one coach for the three-month sessions. \nOur programs empower women and girls to improve their financial health to create a more secure future for their families and communities – we would love for you to join us as a participant or volunteer! \nThese info sessions are a great way for participants\, volunteers\, and program partners to get to know us. \n\nRegister Here  \nQuestions? Connect directly with our Program Team through text or email: 617-297-7376 or programs@womensmoneymatters.org \n\n\n\n\nHaz clic aquí para llenar el formulario de interés y comenzar tu camino con el Programa Futuros Financieros.\n\n\n\n\n\n\n\n\n\n\n\n\n\n\n\n\n\n\n\n\n 617-297-7376 o programs@womensmoneymatters.org 
URL:https://womensmoneymatters.org/event/program-info-session/2025-10-20/
CATEGORIES:Programs
ATTACH;FMTTYPE=image/png:https://womensmoneymatters.org/wp-content/uploads/2025/08/ES-Blog-Post-Graphics-3.png
LOCATION:
END:VEVENT
BEGIN:VEVENT
DTSTART;TZID=UTC:20250925T183000
DTEND;TZID=UTC:20250925T193000
DTSTAMP:20260423T101808
CREATED:20250924T155737Z
LAST-MODIFIED:20250924T155845Z
UID:10000005-1758825000-1758828600@womensmoneymatters.org
SUMMARY:Program Info Session
DESCRIPTION:Join us for a free info session to learn more about our unique model that offers small peer groups AND a one-on-one coach for the three-month sessions. \nOur programs empower women and girls to improve their financial health to create a more secure future for their families and communities – we would love for you to join us as a participant or volunteer! \nThese info sessions are a great way for participants\, volunteers\, and program partners to get to know us. \n\nRegister Here  \nQuestions? Connect directly with our Program Team through text or email: 617-297-7376 or programs@womensmoneymatters.org \n\n\n\n\nHaz clic aquí para llenar el formulario de interés y comenzar tu camino con el Programa Futuros Financieros.\n\n\n\n\n\n\n\n\n\n\n\n\n\n\n\n\n\n\n\n\n 617-297-7376 o programs@womensmoneymatters.org 
URL:https://womensmoneymatters.org/event/program-info-session/2025-09-25/
CATEGORIES:Programs
ATTACH;FMTTYPE=image/png:https://womensmoneymatters.org/wp-content/uploads/2025/08/ES-Blog-Post-Graphics-3.png
LOCATION:
END:VEVENT
END:VCALENDAR